BEGIN:VCALENDAR
VERSION:2.0
PRODID:-//University Campus North Lincolnshire - ECPv6.15.20//NONSGML v1.0//EN
CALSCALE:GREGORIAN
METHOD:PUBLISH
X-ORIGINAL-URL:https://ucnl.ac.uk
X-WR-CALDESC:Events for University Campus North Lincolnshire
REFRESH-INTERVAL;VALUE=DURATION:PT1H
X-Robots-Tag:noindex
X-PUBLISHED-TTL:PT1H
BEGIN:VTIMEZONE
TZID:Europe/London
BEGIN:DAYLIGHT
TZOFFSETFROM:+0000
TZOFFSETTO:+0100
TZNAME:BST
DTSTART:20250330T010000
END:DAYLIGHT
BEGIN:STANDARD
TZOFFSETFROM:+0100
TZOFFSETTO:+0000
TZNAME:GMT
DTSTART:20251026T010000
END:STANDARD
BEGIN:DAYLIGHT
TZOFFSETFROM:+0000
TZOFFSETTO:+0100
TZNAME:BST
DTSTART:20260329T010000
END:DAYLIGHT
BEGIN:STANDARD
TZOFFSETFROM:+0100
TZOFFSETTO:+0000
TZNAME:GMT
DTSTART:20261025T010000
END:STANDARD
BEGIN:DAYLIGHT
TZOFFSETFROM:+0000
TZOFFSETTO:+0100
TZNAME:BST
DTSTART:20270328T010000
END:DAYLIGHT
BEGIN:STANDARD
TZOFFSETFROM:+0100
TZOFFSETTO:+0000
TZNAME:GMT
DTSTART:20271031T010000
END:STANDARD
END:VTIMEZONE
BEGIN:VEVENT
DTSTART;TZID=Europe/London:20260212T173000
DTEND;TZID=Europe/London:20260212T183000
DTSTAMP:20260422T195653
CREATED:20260106T102001Z
LAST-MODIFIED:20260112T110653Z
UID:10000018-1770917400-1770921000@ucnl.ac.uk
SUMMARY:Health and Social Evening Taster Session
DESCRIPTION:Are you considering a career in health and social care\, or looking to develop your workforce? \nJoin us for a taster session where you can: \n\nMeet our experienced teaching team\nExplore our specialist Health Suite\nDiscover hands-on\, career-focused courses (levels 4 – 6\, including Cert HE and degrees).\n\nOur courses are industry-led\, developed with local healthcare partners including Doncaster Bassetlaw Teaching Hospital (DBTH)\, and validated by Sheffield Hallam University\, ensuring high-quality learning and strong career prospects.
URL:https://ucnl.ac.uk/event/health-and-social-evening-taster-session/
LOCATION:UCNL\, Ashby Road\, Scunthorpe\, DN16 1BU\, United Kingdom
CATEGORIES:Taster Sessions
ATTACH;FMTTYPE=image/jpeg:https://ucnl.ac.uk/wp-content/uploads/2026/01/5733_UCNL_HSC_Taster-Sessions_Web-Thumbnail_1000x562_January-2026.jpg
END:VEVENT
BEGIN:VEVENT
DTSTART;TZID=Europe/London:20260212T120000
DTEND;TZID=Europe/London:20260212T130000
DTSTAMP:20260422T195653
CREATED:20260106T101855Z
LAST-MODIFIED:20260112T110539Z
UID:10000017-1770897600-1770901200@ucnl.ac.uk
SUMMARY:Health and Social Afternoon Taster Session
DESCRIPTION:Are you considering a career in health and social care\, or looking to develop your workforce? \nJoin us for a taster session where you can: \n\nMeet our experienced teaching team\nExplore our specialist Health Suite\nDiscover hands-on\, career-focused courses (levels 4 – 6\, including Cert HE and degrees).\n\nOur courses are industry-led\, developed with local healthcare partners including Doncaster Bassetlaw Teaching Hospital (DBTH)\, and validated by Sheffield Hallam University\, ensuring high-quality learning and strong career prospects.
URL:https://ucnl.ac.uk/event/health-and-social-afternoon-taster-session/
LOCATION:UCNL\, Ashby Road\, Scunthorpe\, DN16 1BU\, United Kingdom
CATEGORIES:Taster Sessions
ATTACH;FMTTYPE=image/jpeg:https://ucnl.ac.uk/wp-content/uploads/2026/01/5733_UCNL_HSC_Taster-Sessions_Web-Thumbnail_1000x562_January-2026.jpg
END:VEVENT
BEGIN:VEVENT
DTSTART;TZID=Europe/London:20260212T100000
DTEND;TZID=Europe/London:20260212T110000
DTSTAMP:20260422T195653
CREATED:20260106T101658Z
LAST-MODIFIED:20260112T110438Z
UID:10000016-1770890400-1770894000@ucnl.ac.uk
SUMMARY:Health and Social Morning Taster Session
DESCRIPTION:Are you considering a career in health and social care\, or looking to develop your workforce? \nJoin us for a taster session where you can: \n\nMeet our experienced teaching team\nExplore our specialist Health Suite\nDiscover hands-on\, career-focused courses (levels 4 – 6\, including Cert HE and degrees).\n\nOur courses are industry-led\, developed with local healthcare partners including Doncaster Bassetlaw Teaching Hospital (DBTH)\, and validated by Sheffield Hallam University\, ensuring high-quality learning and strong career prospects.
URL:https://ucnl.ac.uk/event/health-and-social-morning-taster-session/
LOCATION:UCNL\, Ashby Road\, Scunthorpe\, DN16 1BU\, United Kingdom
CATEGORIES:Taster Sessions
ATTACH;FMTTYPE=image/jpeg:https://ucnl.ac.uk/wp-content/uploads/2026/01/5733_UCNL_HSC_Taster-Sessions_Web-Thumbnail_1000x562_January-2026.jpg
END:VEVENT
END:VCALENDAR